BEGIN:VCALENDAR
VERSION:2.0
PRODID:-//AR Connect Education Ltd - ECPv6.3.3.1//NONSGML v1.0//EN
CALSCALE:GREGORIAN
METHOD:PUBLISH
X-WR-CALNAME:AR Connect Education Ltd
X-ORIGINAL-URL:https://arconnecteducation.c2devm.uk
X-WR-CALDESC:Events for AR Connect Education Ltd
REFRESH-INTERVAL;VALUE=DURATION:PT1H
X-Robots-Tag:noindex
X-PUBLISHED-TTL:PT1H
BEGIN:VTIMEZONE
TZID:UTC
BEGIN:STANDARD
TZOFFSETFROM:+0000
TZOFFSETTO:+0000
TZNAME:UTC
DTSTART:20260101T000000
END:STANDARD
END:VTIMEZONE
BEGIN:VEVENT
DTSTART;TZID=UTC:20260421T133000
DTEND;TZID=UTC:20260421T163000
DTSTAMP:20260421T174821
CREATED:20251105T193422Z
LAST-MODIFIED:20251105T193422Z
UID:10000812-1776778200-1776789000@arconnecteducation.c2devm.uk
SUMMARY:1:30pm
DESCRIPTION:
URL:https://arconnecteducation.c2devm.uk/event/130pm-370/
LOCATION:AR Connect Education Assessment Centre\, 37 Canal St\, Stockport\, England\, SK1 3BZ\, United Kingdom
END:VEVENT
BEGIN:VEVENT
DTSTART;TZID=UTC:20260421T100000
DTEND;TZID=UTC:20260421T130000
DTSTAMP:20260421T174821
CREATED:20251105T192316Z
LAST-MODIFIED:20251105T192316Z
UID:10000808-1776765600-1776776400@arconnecteducation.c2devm.uk
SUMMARY:10:00am
DESCRIPTION:
URL:https://arconnecteducation.c2devm.uk/event/1000am-380/
LOCATION:AR Connect Education Assessment Centre\, 37 Canal St\, Stockport\, England\, SK1 3BZ\, United Kingdom
END:VEVENT
BEGIN:VEVENT
DTSTART;TZID=UTC:20260420T133000
DTEND;TZID=UTC:20260420T163000
DTSTAMP:20260421T174821
CREATED:20251105T193233Z
LAST-MODIFIED:20251105T193233Z
UID:10000811-1776691800-1776702600@arconnecteducation.c2devm.uk
SUMMARY:1:30pm
DESCRIPTION:
URL:https://arconnecteducation.c2devm.uk/event/130pm-369/
LOCATION:AR Connect Education Assessment Centre\, 37 Canal St\, Stockport\, England\, SK1 3BZ\, United Kingdom
END:VEVENT
BEGIN:VEVENT
DTSTART;TZID=UTC:20260420T100000
DTEND;TZID=UTC:20260420T130000
DTSTAMP:20260421T174821
CREATED:20251105T192014Z
LAST-MODIFIED:20251105T192014Z
UID:10000807-1776679200-1776690000@arconnecteducation.c2devm.uk
SUMMARY:10:00am
DESCRIPTION:
URL:https://arconnecteducation.c2devm.uk/event/1000am-379/
LOCATION:AR Connect Education Assessment Centre\, 37 Canal St\, Stockport\, England\, SK1 3BZ\, United Kingdom
END:VEVENT
BEGIN:VEVENT
DTSTART;TZID=UTC:20260416T133000
DTEND;TZID=UTC:20260416T163000
DTSTAMP:20260421T174821
CREATED:20251105T172241Z
LAST-MODIFIED:20251105T172241Z
UID:10000806-1776346200-1776357000@arconnecteducation.c2devm.uk
SUMMARY:1:30pm
DESCRIPTION:
URL:https://arconnecteducation.c2devm.uk/event/130pm-368/
LOCATION:AR Connect Education Assessment Centre\, 37 Canal St\, Stockport\, England\, SK1 3BZ\, United Kingdom
END:VEVENT
BEGIN:VEVENT
DTSTART;TZID=UTC:20260416T100000
DTEND;TZID=UTC:20260416T130000
DTSTAMP:20260421T174821
CREATED:20251105T171204Z
LAST-MODIFIED:20251105T171204Z
UID:10000802-1776333600-1776344400@arconnecteducation.c2devm.uk
SUMMARY:10:00am
DESCRIPTION:
URL:https://arconnecteducation.c2devm.uk/event/1000am-377/
LOCATION:AR Connect Education Assessment Centre\, 37 Canal St\, Stockport\, England\, SK1 3BZ\, United Kingdom
END:VEVENT
BEGIN:VEVENT
DTSTART;TZID=UTC:20260327T100000
DTEND;TZID=UTC:20260327T130000
DTSTAMP:20260421T174821
CREATED:20251105T160624Z
LAST-MODIFIED:20251105T160624Z
UID:10000773-1774605600-1774616400@arconnecteducation.c2devm.uk
SUMMARY:10:00am
DESCRIPTION:
URL:https://arconnecteducation.c2devm.uk/event/1000am-366/
LOCATION:AR Connect Education Assessment Centre\, 37 Canal St\, Stockport\, England\, SK1 3BZ\, United Kingdom
END:VEVENT
BEGIN:VEVENT
DTSTART;TZID=UTC:20260326T133000
DTEND;TZID=UTC:20260326T163000
DTSTAMP:20260421T174821
CREATED:20251105T163712Z
LAST-MODIFIED:20251105T163712Z
UID:10000787-1774531800-1774542600@arconnecteducation.c2devm.uk
SUMMARY:1:30pm
DESCRIPTION:
URL:https://arconnecteducation.c2devm.uk/event/130pm-359/
LOCATION:AR Connect Education Assessment Centre\, 37 Canal St\, Stockport\, England\, SK1 3BZ\, United Kingdom
END:VEVENT
BEGIN:VEVENT
DTSTART;TZID=UTC:20260326T100000
DTEND;TZID=UTC:20260326T130000
DTSTAMP:20260421T174821
CREATED:20251105T160343Z
LAST-MODIFIED:20251105T160343Z
UID:10000772-1774519200-1774530000@arconnecteducation.c2devm.uk
SUMMARY:10:00am
DESCRIPTION:
URL:https://arconnecteducation.c2devm.uk/event/1000am-365/
LOCATION:AR Connect Education Assessment Centre\, 37 Canal St\, Stockport\, England\, SK1 3BZ\, United Kingdom
END:VEVENT
BEGIN:VEVENT
DTSTART;TZID=UTC:20260324T133000
DTEND;TZID=UTC:20260324T163000
DTSTAMP:20260421T174821
CREATED:20251105T163517Z
LAST-MODIFIED:20251105T163517Z
UID:10000786-1774359000-1774369800@arconnecteducation.c2devm.uk
SUMMARY:1:30pm
DESCRIPTION:
URL:https://arconnecteducation.c2devm.uk/event/130pm-358/
LOCATION:AR Connect Education Assessment Centre\, 37 Canal St\, Stockport\, England\, SK1 3BZ\, United Kingdom
END:VEVENT
BEGIN:VEVENT
DTSTART;TZID=UTC:20260324T100000
DTEND;TZID=UTC:20260324T130000
DTSTAMP:20260421T174821
CREATED:20251105T155749Z
LAST-MODIFIED:20251105T155749Z
UID:10000770-1774346400-1774357200@arconnecteducation.c2devm.uk
SUMMARY:10:00am
DESCRIPTION:
URL:https://arconnecteducation.c2devm.uk/event/1000am-364/
LOCATION:AR Connect Education Assessment Centre\, 37 Canal St\, Stockport\, England\, SK1 3BZ\, United Kingdom
END:VEVENT
BEGIN:VEVENT
DTSTART;TZID=UTC:20260323T133000
DTEND;TZID=UTC:20260323T163000
DTSTAMP:20260421T174821
CREATED:20251105T163310Z
LAST-MODIFIED:20251105T163310Z
UID:10000785-1774272600-1774283400@arconnecteducation.c2devm.uk
SUMMARY:1:30pm
DESCRIPTION:
URL:https://arconnecteducation.c2devm.uk/event/130pm-357/
LOCATION:AR Connect Education Assessment Centre\, 37 Canal St\, Stockport\, England\, SK1 3BZ\, United Kingdom
END:VEVENT
BEGIN:VEVENT
DTSTART;TZID=UTC:20260323T100000
DTEND;TZID=UTC:20260323T130000
DTSTAMP:20260421T174821
CREATED:20251105T155528Z
LAST-MODIFIED:20251105T155528Z
UID:10000769-1774260000-1774270800@arconnecteducation.c2devm.uk
SUMMARY:10:00am
DESCRIPTION:
URL:https://arconnecteducation.c2devm.uk/event/1000am-363/
LOCATION:AR Connect Education Assessment Centre\, 37 Canal St\, Stockport\, England\, SK1 3BZ\, United Kingdom
END:VEVENT
BEGIN:VEVENT
DTSTART;TZID=UTC:20260317T133000
DTEND;TZID=UTC:20260317T163000
DTSTAMP:20260421T174821
CREATED:20251105T162923Z
LAST-MODIFIED:20251105T162923Z
UID:10000783-1773754200-1773765000@arconnecteducation.c2devm.uk
SUMMARY:1:30pm
DESCRIPTION:
URL:https://arconnecteducation.c2devm.uk/event/130pm-355/
LOCATION:AR Connect Education Assessment Centre\, 37 Canal St\, Stockport\, England\, SK1 3BZ\, United Kingdom
END:VEVENT
BEGIN:VEVENT
DTSTART;TZID=UTC:20260317T100000
DTEND;TZID=UTC:20260317T130000
DTSTAMP:20260421T174821
CREATED:20251105T154255Z
LAST-MODIFIED:20251105T154255Z
UID:10000766-1773741600-1773752400@arconnecteducation.c2devm.uk
SUMMARY:10:00am
DESCRIPTION:
URL:https://arconnecteducation.c2devm.uk/event/1000am-360/
LOCATION:AR Connect Education Assessment Centre\, 37 Canal St\, Stockport\, England\, SK1 3BZ\, United Kingdom
END:VEVENT
BEGIN:VEVENT
DTSTART;TZID=UTC:20260313T100000
DTEND;TZID=UTC:20260313T130000
DTSTAMP:20260421T174821
CREATED:20251105T153716Z
LAST-MODIFIED:20251105T153716Z
UID:10000764-1773396000-1773406800@arconnecteducation.c2devm.uk
SUMMARY:10:00am
DESCRIPTION:
URL:https://arconnecteducation.c2devm.uk/event/1000am-358/
LOCATION:AR Connect Education Assessment Centre\, 37 Canal St\, Stockport\, England\, SK1 3BZ\, United Kingdom
END:VEVENT
BEGIN:VEVENT
DTSTART;TZID=UTC:20260312T133000
DTEND;TZID=UTC:20260312T163000
DTSTAMP:20260421T174821
CREATED:20251105T162610Z
LAST-MODIFIED:20251105T162610Z
UID:10000781-1773322200-1773333000@arconnecteducation.c2devm.uk
SUMMARY:1:30pm
DESCRIPTION:
URL:https://arconnecteducation.c2devm.uk/event/130pm-353/
LOCATION:AR Connect Education Assessment Centre\, 37 Canal St\, Stockport\, England\, SK1 3BZ\, United Kingdom
END:VEVENT
BEGIN:VEVENT
DTSTART;TZID=UTC:20260312T100000
DTEND;TZID=UTC:20260312T130000
DTSTAMP:20260421T174821
CREATED:20251105T153510Z
LAST-MODIFIED:20251105T153510Z
UID:10000763-1773309600-1773320400@arconnecteducation.c2devm.uk
SUMMARY:10:00am
DESCRIPTION:
URL:https://arconnecteducation.c2devm.uk/event/1000am-357/
LOCATION:AR Connect Education Assessment Centre\, 37 Canal St\, Stockport\, England\, SK1 3BZ\, United Kingdom
END:VEVENT
BEGIN:VEVENT
DTSTART;TZID=UTC:20260310T133000
DTEND;TZID=UTC:20260310T163000
DTSTAMP:20260421T174821
CREATED:20251105T162427Z
LAST-MODIFIED:20251105T162427Z
UID:10000780-1773149400-1773160200@arconnecteducation.c2devm.uk
SUMMARY:1:30pm
DESCRIPTION:
URL:https://arconnecteducation.c2devm.uk/event/130pm-352/
LOCATION:AR Connect Education Assessment Centre\, 37 Canal St\, Stockport\, England\, SK1 3BZ\, United Kingdom
END:VEVENT
BEGIN:VEVENT
DTSTART;TZID=UTC:20260310T100000
DTEND;TZID=UTC:20260310T130000
DTSTAMP:20260421T174821
CREATED:20251105T152344Z
LAST-MODIFIED:20251105T152344Z
UID:10000762-1773136800-1773147600@arconnecteducation.c2devm.uk
SUMMARY:10:00am
DESCRIPTION:
URL:https://arconnecteducation.c2devm.uk/event/1000am-356/
LOCATION:AR Connect Education Assessment Centre\, 37 Canal St\, Stockport\, England\, SK1 3BZ\, United Kingdom
END:VEVENT
BEGIN:VEVENT
DTSTART;TZID=UTC:20260309T133000
DTEND;TZID=UTC:20260309T163000
DTSTAMP:20260421T174821
CREATED:20251105T162245Z
LAST-MODIFIED:20251105T162245Z
UID:10000779-1773063000-1773073800@arconnecteducation.c2devm.uk
SUMMARY:1:30pm
DESCRIPTION:
URL:https://arconnecteducation.c2devm.uk/event/130pm-351/
LOCATION:AR Connect Education Assessment Centre\, 37 Canal St\, Stockport\, England\, SK1 3BZ\, United Kingdom
END:VEVENT
BEGIN:VEVENT
DTSTART;TZID=UTC:20260306T100000
DTEND;TZID=UTC:20260306T130000
DTSTAMP:20260421T174821
CREATED:20251105T151745Z
LAST-MODIFIED:20251105T151745Z
UID:10000760-1772791200-1772802000@arconnecteducation.c2devm.uk
SUMMARY:10:00am
DESCRIPTION:
URL:https://arconnecteducation.c2devm.uk/event/1000am-354/
LOCATION:AR Connect Education Assessment Centre\, 37 Canal St\, Stockport\, England\, SK1 3BZ\, United Kingdom
END:VEVENT
BEGIN:VEVENT
DTSTART;TZID=UTC:20260305T133000
DTEND;TZID=UTC:20260305T163000
DTSTAMP:20260421T174821
CREATED:20251105T162115Z
LAST-MODIFIED:20251105T162115Z
UID:10000778-1772717400-1772728200@arconnecteducation.c2devm.uk
SUMMARY:1:30pm
DESCRIPTION:
URL:https://arconnecteducation.c2devm.uk/event/130pm-350/
LOCATION:AR Connect Education Assessment Centre\, 37 Canal St\, Stockport\, England\, SK1 3BZ\, United Kingdom
END:VEVENT
BEGIN:VEVENT
DTSTART;TZID=UTC:20260305T100000
DTEND;TZID=UTC:20260305T130000
DTSTAMP:20260421T174821
CREATED:20251105T151421Z
LAST-MODIFIED:20260217T154619Z
UID:10000759-1772704800-1772715600@arconnecteducation.c2devm.uk
SUMMARY:10:00am
DESCRIPTION:
URL:https://arconnecteducation.c2devm.uk/event/1000am-353/
LOCATION:AR Connect Education Assessment Centre\, 37 Canal St\, Stockport\, England\, SK1 3BZ\, United Kingdom
END:VEVENT
BEGIN:VEVENT
DTSTART;TZID=UTC:20260302T133000
DTEND;TZID=UTC:20260302T163000
DTSTAMP:20260421T174821
CREATED:20251105T161727Z
LAST-MODIFIED:20251105T161727Z
UID:10000776-1772458200-1772469000@arconnecteducation.c2devm.uk
SUMMARY:1:30pm
DESCRIPTION:
URL:https://arconnecteducation.c2devm.uk/event/130pm-348/
LOCATION:AR Connect Education Assessment Centre\, 37 Canal St\, Stockport\, England\, SK1 3BZ\, United Kingdom
END:VEVENT
BEGIN:VEVENT
DTSTART;TZID=UTC:20260227T100000
DTEND;TZID=UTC:20260227T130000
DTSTAMP:20260421T174821
CREATED:20251104T161650Z
LAST-MODIFIED:20251104T161650Z
UID:10000744-1772186400-1772197200@arconnecteducation.c2devm.uk
SUMMARY:10:00am
DESCRIPTION:
URL:https://arconnecteducation.c2devm.uk/event/1000am-350/
LOCATION:AR Connect Education Assessment Centre\, 37 Canal St\, Stockport\, England\, SK1 3BZ\, United Kingdom
END:VEVENT
BEGIN:VEVENT
DTSTART;TZID=UTC:20260226T100000
DTEND;TZID=UTC:20260226T130000
DTSTAMP:20260421T174821
CREATED:20251104T161511Z
LAST-MODIFIED:20251104T161511Z
UID:10000743-1772100000-1772110800@arconnecteducation.c2devm.uk
SUMMARY:10:00am
DESCRIPTION:
URL:https://arconnecteducation.c2devm.uk/event/1000am-349/
LOCATION:AR Connect Education Assessment Centre\, 37 Canal St\, Stockport\, England\, SK1 3BZ\, United Kingdom
END:VEVENT
BEGIN:VEVENT
DTSTART;TZID=UTC:20260224T100000
DTEND;TZID=UTC:20260224T130000
DTSTAMP:20260421T174821
CREATED:20251104T161321Z
LAST-MODIFIED:20251104T161321Z
UID:10000742-1771927200-1771938000@arconnecteducation.c2devm.uk
SUMMARY:10:00am
DESCRIPTION:
URL:https://arconnecteducation.c2devm.uk/event/1000am-348/
LOCATION:AR Connect Education Assessment Centre\, 37 Canal St\, Stockport\, England\, SK1 3BZ\, United Kingdom
END:VEVENT
BEGIN:VEVENT
DTSTART;TZID=UTC:20260217T133000
DTEND;TZID=UTC:20260217T163000
DTSTAMP:20260421T174821
CREATED:20251105T145501Z
LAST-MODIFIED:20251105T145501Z
UID:10000752-1771335000-1771345800@arconnecteducation.c2devm.uk
SUMMARY:1:30pm
DESCRIPTION:
URL:https://arconnecteducation.c2devm.uk/event/130pm-343/
LOCATION:AR Connect Education Assessment Centre\, 37 Canal St\, Stockport\, England\, SK1 3BZ\, United Kingdom
END:VEVENT
BEGIN:VEVENT
DTSTART;TZID=UTC:20260211T100000
DTEND;TZID=UTC:20260211T130000
DTSTAMP:20260421T174821
CREATED:20251104T155254Z
LAST-MODIFIED:20260119T205236Z
UID:10000734-1770804000-1770814800@arconnecteducation.c2devm.uk
SUMMARY:10:00am
DESCRIPTION:
URL:https://arconnecteducation.c2devm.uk/event/1000am-340/
LOCATION:AR Connect Education Assessment Centre\, 37 Canal St\, Stockport\, England\, SK1 3BZ\, United Kingdom
END:VEVENT
END:VCALENDAR